BEGIN:VCALENDAR
VERSION:2.0
PRODID:spatie/icalendar-generator
DESCRIPTION:Veranstaltungen von LAGJ*M* BW
X-WR-CALDESC:Veranstaltungen von LAGJ*M* BW
REFRESH-INTERVAL;VALUE=DURATION:PT1440M
X-PUBLISHED-TTL:PT1440M
BEGIN:VTIMEZONE
TZID:Europe/Berlin
BEGIN:DAYLIGHT
DTSTART:20250330T020000Z
TZOFFSETFROM:+0100
TZOFFSETTO:+0200
END:DAYLIGHT
BEGIN:STANDARD
DTSTART:20251026T030000Z
TZOFFSETFROM:+0200
TZOFFSETTO:+0100
END:STANDARD
BEGIN:DAYLIGHT
DTSTART:20260329T020000Z
TZOFFSETFROM:+0100
TZOFFSETTO:+0200
END:DAYLIGHT
END:VTIMEZONE
BEGIN:VTIMEZONE
TZID:UTC
BEGIN:STANDARD
DTSTART:20250725T120844Z
TZOFFSETFROM:+0000
TZOFFSETTO:+0000
END:STANDARD
END:VTIMEZONE
BEGIN:VEVENT
UID:49-33
DTSTAMP:20260421T120844Z
SUMMARY:Jungen*\, Bedürfnisse und Ressourcen – Grundlagen einer zeitgem
 äßen Jungen*arbeit
LOCATION:Tagungszentrum Gültstein Schloßstraße 31  Herrenberg-Gültstein
  Baden-Württemberg 71083
ORGANIZER;CN=Joel Wardenga:MAILTO:joel.wardenga@lag-jungenarbeit.de
DTSTART;TZID=Europe/Berlin:20251104T100000
DTEND;TZID=Europe/Berlin:20251105T163000
X-ALT-DESC;FMTTYPE=TEXT/HTML:04.11.2025 - 05.11.2025 Tagungszentrum Gültst
 ein Beschreibung \"Toxische Männlichkeit\"\, Boys-Crisis\, Männlichkeit 
 als gesellschaftliches Gesamtproblem oder \"Jungen als Bildungsverlierer\"
  … – die Liste der problematisch wahrgenommenen Aspekte von Jungen* un
 d jungen Männern* ist lang. Als pädagogischer Gegenentwurf soll Jungen*a
 rbeit dabei helfen\, Jungen* ein gelingendes gutes Leben in diesem Spannun
 gsfeld zu ermöglichen. Aber was ist Jungen*arbeit eigentlich? Wie&amp;hellip\
 ;
CATEGORIES:General
URL;VALUE=URI:https://www.lag-jungenarbeit.de/lagjmbw-termine/jungen-beduer
 fnisse-und-ressourcen-grundlagen-einer-zeitgemaessen-jungenarbeit-2/?mc_id
 =49
END:VEVENT
END:VCALENDAR