BEGIN:VCALENDAR
VERSION:2.0
PRODID:spatie/icalendar-generator
DESCRIPTION:Veranstaltungen von LAGJ*M* BW
X-WR-CALDESC:Veranstaltungen von LAGJ*M* BW
REFRESH-INTERVAL;VALUE=DURATION:PT1440M
X-PUBLISHED-TTL:PT1440M
BEGIN:VTIMEZONE
TZID:Europe/Berlin
BEGIN:DAYLIGHT
DTSTART:20250330T020000Z
TZOFFSETFROM:+0100
TZOFFSETTO:+0200
END:DAYLIGHT
BEGIN:STANDARD
DTSTART:20251026T030000Z
TZOFFSETFROM:+0200
TZOFFSETTO:+0100
END:STANDARD
BEGIN:DAYLIGHT
DTSTART:20260329T020000Z
TZOFFSETFROM:+0100
TZOFFSETTO:+0200
END:DAYLIGHT
END:VTIMEZONE
BEGIN:VTIMEZONE
TZID:UTC
BEGIN:STANDARD
DTSTART:20250725T114129Z
TZOFFSETFROM:+0000
TZOFFSETTO:+0000
END:STANDARD
END:VTIMEZONE
BEGIN:VEVENT
UID:27-20
DTSTAMP:20260421T114129Z
SUMMARY:Fachtag Echt männlich?! - Jungen*Männer*Gleichstellung
LOCATION:Vorarlberg Museum Kornmarktplatz 1  Bregenz  6900
ORGANIZER;CN=Joel Wardenga:MAILTO:joel.wardenga@lag-jungenarbeit.de
DTSTART;TZID=Europe/Berlin:20251023T100000
DTEND;TZID=Europe/Berlin:20251023T170000
X-ALT-DESC;FMTTYPE=TEXT/HTML:Ort:     Vorarlberg Museum\, Kornmarktplatz
  1\, 6900 Bregenz (A) *** Die Fachtagung ist ausgebucht. *** Am 23.10.202
 5 findet in Bregenz die Internationale Euregio-Fachtagung „Jungen*Männe
 r*Gleichstellung“ statt. Im Fokus der Tagung stehen die Themenfelder mä
 nner*orientierte Gleichstellungsperspektiven\, Caring Masculinities und M
 ännlichkeiten 2.1. Es referieren Markus Theunert (CH)\, Elli Scambor (A)\
 , Joel Wardenga (D) sowie Bernhard Dünser (A) und Michael&amp;hellip\;
CATEGORIES:General
URL;VALUE=URI:https://www.lag-jungenarbeit.de/lagjmbw-termine/fachtag-echt-
 maennlich-jungenmaennergleichstellung/?mc_id=27
END:VEVENT
END:VCALENDAR